BEGIN:VCALENDAR
VERSION:2.0
PRODID:-//Bakersfield College Foundation - ECPv6.15.13//NONSGML v1.0//EN
CALSCALE:GREGORIAN
METHOD:PUBLISH
X-WR-CALNAME:Bakersfield College Foundation
X-ORIGINAL-URL:https://supportbc.org
X-WR-CALDESC:Events for Bakersfield College Foundation
REFRESH-INTERVAL;VALUE=DURATION:PT1H
X-Robots-Tag:noindex
X-PUBLISHED-TTL:PT1H
BEGIN:VTIMEZONE
TZID:America/Los_Angeles
BEGIN:DAYLIGHT
TZOFFSETFROM:-0800
TZOFFSETTO:-0700
TZNAME:PDT
DTSTART:20190310T100000
END:DAYLIGHT
BEGIN:STANDARD
TZOFFSETFROM:-0700
TZOFFSETTO:-0800
TZNAME:PST
DTSTART:20191103T090000
END:STANDARD
BEGIN:DAYLIGHT
TZOFFSETFROM:-0800
TZOFFSETTO:-0700
TZNAME:PDT
DTSTART:20200308T100000
END:DAYLIGHT
BEGIN:STANDARD
TZOFFSETFROM:-0700
TZOFFSETTO:-0800
TZNAME:PST
DTSTART:20201101T090000
END:STANDARD
BEGIN:DAYLIGHT
TZOFFSETFROM:-0800
TZOFFSETTO:-0700
TZNAME:PDT
DTSTART:20210314T100000
END:DAYLIGHT
BEGIN:STANDARD
TZOFFSETFROM:-0700
TZOFFSETTO:-0800
TZNAME:PST
DTSTART:20211107T090000
END:STANDARD
BEGIN:DAYLIGHT
TZOFFSETFROM:-0800
TZOFFSETTO:-0700
TZNAME:PDT
DTSTART:20220313T100000
END:DAYLIGHT
BEGIN:STANDARD
TZOFFSETFROM:-0700
TZOFFSETTO:-0800
TZNAME:PST
DTSTART:20221106T090000
END:STANDARD
BEGIN:DAYLIGHT
TZOFFSETFROM:-0800
TZOFFSETTO:-0700
TZNAME:PDT
DTSTART:20230312T100000
END:DAYLIGHT
BEGIN:STANDARD
TZOFFSETFROM:-0700
TZOFFSETTO:-0800
TZNAME:PST
DTSTART:20231105T090000
END:STANDARD
BEGIN:DAYLIGHT
TZOFFSETFROM:-0800
TZOFFSETTO:-0700
TZNAME:PDT
DTSTART:20240310T100000
END:DAYLIGHT
BEGIN:STANDARD
TZOFFSETFROM:-0700
TZOFFSETTO:-0800
TZNAME:PST
DTSTART:20241103T090000
END:STANDARD
BEGIN:DAYLIGHT
TZOFFSETFROM:-0800
TZOFFSETTO:-0700
TZNAME:PDT
DTSTART:20250309T100000
END:DAYLIGHT
BEGIN:STANDARD
TZOFFSETFROM:-0700
TZOFFSETTO:-0800
TZNAME:PST
DTSTART:20251102T090000
END:STANDARD
BEGIN:DAYLIGHT
TZOFFSETFROM:-0800
TZOFFSETTO:-0700
TZNAME:PDT
DTSTART:20260308T100000
END:DAYLIGHT
BEGIN:STANDARD
TZOFFSETFROM:-0700
TZOFFSETTO:-0800
TZNAME:PST
DTSTART:20261101T090000
END:STANDARD
BEGIN:DAYLIGHT
TZOFFSETFROM:-0800
TZOFFSETTO:-0700
TZNAME:PDT
DTSTART:20270314T100000
END:DAYLIGHT
BEGIN:STANDARD
TZOFFSETFROM:-0700
TZOFFSETTO:-0800
TZNAME:PST
DTSTART:20271107T090000
END:STANDARD
END:VTIMEZONE
BEGIN:VEVENT
DTSTART;TZID=America/Los_Angeles:20260314T173000
DTEND;TZID=America/Los_Angeles:20260314T203000
DTSTAMP:20260423T080413
CREATED:20260226T185654Z
LAST-MODIFIED:20260226T185654Z
UID:7911-1773509400-1773520200@supportbc.org
SUMMARY:18th Annual Sterling Silver
DESCRIPTION:
URL:https://supportbc.org/upcoming-event/18th-annual-sterling-silver/
LOCATION:CA
END:VEVENT
BEGIN:VEVENT
DTSTART;VALUE=DATE:20251108
DTEND;VALUE=DATE:20251110
DTSTAMP:20260423T080413
CREATED:20250604T172627Z
LAST-MODIFIED:20260413T195513Z
UID:6966-1762560000-1762732799@supportbc.org
SUMMARY:BC Rodeo 2025
DESCRIPTION:Purchase Tickets here! \nVendor Registration Link \nRodeo Sponsorships
URL:https://supportbc.org/upcoming-event/2025-bc-rodeo/
LOCATION:CA
END:VEVENT
BEGIN:VEVENT
DTSTART;TZID=America/Los_Angeles:20251011T110000
DTEND;TZID=America/Los_Angeles:20251011T150000
DTSTAMP:20260423T080413
CREATED:20250604T172527Z
LAST-MODIFIED:20250806T155435Z
UID:6963-1760180400-1760194800@supportbc.org
SUMMARY:BC Alumni BBQ
DESCRIPTION:The Bakersfield College Alumni BBQ\, presented by Harris BBQ\, is a fun-filled event held before BC’s Homecoming football game\, reconnecting generations of alumni and members of our community while fostering connections and celebrating shared BC spirit. Enjoy mouthwatering tri-tip\, chicken\, or hot dogs from Harris BBQ\, live performances by BC’s talented groups\, family-friendly activities\, and a beer garden for guests 21 and over. Every meal ticket purchased will include general admission to the Homecoming game – help fill Memorial Stadium with our community’s support for BC Football! Proceeds of the event benefit the Bakersfield College Alumni Association’s scholarships and ongoing efforts to provide resources and promote the success of our past\, current\, and future students. \nMore details: Bakersfield College Alumni BBQ \nTickets: Bakersfield College Alumni BBQ Tickets \nSponsorships: Bakersfield College Alumni BBQ Sponsorships
URL:https://supportbc.org/upcoming-event/bc-alumni-bbq-2025/
LOCATION:CA
END:VEVENT
BEGIN:VEVENT
DTSTART;TZID=America/Los_Angeles:20241109T160000
DTEND;TZID=America/Los_Angeles:20241109T160000
DTSTAMP:20260423T080413
CREATED:20240620T170939Z
LAST-MODIFIED:20241108T221040Z
UID:5895-1731168000-1731168000@supportbc.org
SUMMARY:2024 BC Rodeo Event
DESCRIPTION:The Rodeo Team at Bakersfield College will host our 2nd NIRA Collegiate Rodeo on November 9th (Gate Opens @ 4pm) & 10th (gates open @11am Rodeo @ 1pm)\, 2024 at the Kern County Fairgrounds.\nIf your company is looking for a way to get involved\, our packages are a great marketing opportunity!\nSponsorship of this event not only offers you exclusive benefits at the Rodeo\, but great exposure to potential new customers! Please consider a sponsorship package today! \nClick here to view sponsorship packages \nClick here for vendor registration \nClick here to purchase tickets \n \n  \n \n  \n  \n 
URL:https://supportbc.org/upcoming-event/2024-bc-rodeo-event/
LOCATION:Kern County Fairgrounds\, 1142 South P Street\, Bakersfield\, CA\, 93307\, United States
END:VEVENT
BEGIN:VEVENT
DTSTART;TZID=America/Los_Angeles:20241019T140000
DTEND;TZID=America/Los_Angeles:20241019T170000
DTSTAMP:20260423T080413
CREATED:20240919T180733Z
LAST-MODIFIED:20240919T181008Z
UID:6257-1729346400-1729357200@supportbc.org
SUMMARY:BC Alumni BBQ 2024
DESCRIPTION:The Bakersfield College Alumni BBQ\, presented by Harris BBQ\, is a fun-filled event before the Homecoming football game against Hancock College that will reconnect generations of alumni and members of our community\, fostering connections and celebrating shared BC spirit. Enjoy mouthwatering tri-tip or hot dogs from Harris BBQ\, live performances by BC’s talented groups\, family-friendly activities\, and a beer garden for guests 21 and over. Every meal ticket purchased will include general admission to the Homecoming game – help fill Memorial Stadium with our community’s support for BC Football! Proceeds of the event benefit the Bakersfield College Alumni Association’s scholarships and ongoing efforts to provide resources and promote the success of our past\, current\, and future students. \nBUY TICKETS HERE
URL:https://supportbc.org/upcoming-event/bc-alumni-bbq-2024/
LOCATION:Panorama Campus\, 1801 Panorama Drive\, Bakersfield\, CA\, 93305\, United States
END:VEVENT
BEGIN:VEVENT
DTSTART;TZID=America/Los_Angeles:20241016T220000
DTEND;TZID=America/Los_Angeles:20241016T220000
DTSTAMP:20260423T080413
CREATED:20240916T233917Z
LAST-MODIFIED:20240916T234211Z
UID:6219-1729116000-1729116000@supportbc.org
SUMMARY:BC Athletics Hall of Fame 2024
DESCRIPTION:Date:  October 16\, 2024 \nReception begins at 5:30 pm \nDinner begins at 6:30 pm \nLocation:  Luigi’s Restaurant\, 725 E. 19th St.\, Bakersfield\, CA 93305 \nTicket Cost: $150 \nGet Tickets Here
URL:https://supportbc.org/upcoming-event/bc-athletics-hall-of-fame-2024/
LOCATION:CA
END:VEVENT
BEGIN:VEVENT
DTSTART;TZID=America/Los_Angeles:20231111T080000
DTEND;TZID=America/Los_Angeles:20231111T200000
DTSTAMP:20260423T080413
CREATED:20230718T174836Z
LAST-MODIFIED:20230928T215532Z
UID:4208-1699689600-1699732800@supportbc.org
SUMMARY:BC Rodeo Event - Inaugural NIRA Collegiate Rodeo
DESCRIPTION:The Rodeo Team at Bakersfield College will host our Inaugural NIRA Collegiate Rodeo on November 11th\, 2023 at the Kern County Fairgrounds.\nWe are starting from the ground up and looking for your community support. If your company is looking for a way to get involved\, our packages are a great marketing opportunity!\nSponsorship of this event not only offers you exclusive benefits at the Rodeo\, but great exposure to potential new customers! Please consider a sponsorship package today! \nClick here to view sponsorship packages \nClick here to purchase tickets \nClick here for vendor registration \n \n 
URL:https://supportbc.org/upcoming-event/bc-rodeo-event-inaugural-nira-collegiate-rodeo/
LOCATION:Kern County Fairgrounds\, 1142 South P Street\, Bakersfield\, CA\, 93307\, United States
END:VEVENT
BEGIN:VEVENT
DTSTART;TZID=America/Los_Angeles:20231021T130000
DTEND;TZID=America/Los_Angeles:20231021T170000
DTSTAMP:20260423T080413
CREATED:20230725T143644Z
LAST-MODIFIED:20230725T143644Z
UID:4281-1697893200-1697907600@supportbc.org
SUMMARY:2023 Renegade Promenade
DESCRIPTION:Bakersfield College Invites the Community to Campus for the\n2023 RENEGADE PROMENADE on\nSaturday\, October 21\, 2023\n\nClick here for Sponsorship information
URL:https://supportbc.org/upcoming-event/2023-renegade-promenade/
LOCATION:CA
END:VEVENT
BEGIN:VEVENT
DTSTART;TZID=America/Los_Angeles:20231020T103000
DTEND;TZID=America/Los_Angeles:20231020T203000
DTSTAMP:20260423T080413
CREATED:20230718T185831Z
LAST-MODIFIED:20230718T190007Z
UID:4216-1697797800-1697833800@supportbc.org
SUMMARY:Back to BC 2023 Golf Tournament
DESCRIPTION:Please join the BC Alumni Association for the 3rd Annual Back to BC Golf Tournament supporting the BC Football program at the Rio Bravo Country Club on Friday\, October 20th. \nFor more information on registration and sponsorships\, click here: Back to BC Registration and Sponsorships.
URL:https://supportbc.org/upcoming-event/4216/
LOCATION:Rio Bravo Country Club\, 15200 Casa Club Dr.\, Bakersfield\, CA\, 93306\, United States
END:VEVENT
BEGIN:VEVENT
DTSTART;TZID=America/Los_Angeles:20230325T180000
DTEND;TZID=America/Los_Angeles:20230325T210000
DTSTAMP:20260423T080413
CREATED:20220906T204814Z
LAST-MODIFIED:20230324T153027Z
UID:2979-1679767200-1679778000@supportbc.org
SUMMARY:15th Annual Sterling Silver
DESCRIPTION:Some of the most faithful supporters of Bakersfield College and education in Kern County will be honored on Saturday\, March 25\, 2023 at the BC Foundation’s 15th Annual Sterling Silver. This special evening brings “all the sparkle” and features a delicious meal\, prepared by BC’s chefs and culinary students\, paired with curated wines to bring out the best flavor possible. \nBC’s brand-new event center will be the site of the reception and dinner.  The spectacular new venue spans the third floor of the new Campus Center and will be the ideal setting for recognizing community members whose support is bringing to life many of BC’s new programs and campus improvements. \nHonorees:  \n\nValley Strong Credit Union\, Corporate Philanthropist Award\nMarjorie and Bud Lindsey\, Individual Philanthropist Award\nFran Florez\, BC Foundation Service Medal\nJean Fuller\, Leadership in Education Award\n\nSponsors & Attendees: \n\nThe community’s strongest supporters of philanthropy and education\nSterling Silver sells out each year\, usually before any individual tickets can be sold (thanks to our many\, generous sponsors!)\nFood and wine afficionados enjoy the deluxe meal prepared and served\, in part\, by BC culinary students. (Many guests in 2022 announced that their Steak Oscar was the best steak they’d ever had.)\nFor Sponsorship information click on this link:  15th Annual Sterling Silver Sponsorships
URL:https://supportbc.org/upcoming-event/15th-annual-sterling-silver/
LOCATION:CA
END:VEVENT
BEGIN:VEVENT
DTSTART;TZID=America/Los_Angeles:20230204T170000
DTEND;TZID=America/Los_Angeles:20230204T213000
DTSTAMP:20260423T080413
CREATED:20230121T204044Z
LAST-MODIFIED:20230123T200711Z
UID:3515-1675530000-1675546200@supportbc.org
SUMMARY:Travelin' Shoes Fundraiser Concert with Monty Byrom\, Lydia Ranger\, Jim Ranger (from The Voice) and Ken & Jill Burdick  and the BC Chamber Singers
DESCRIPTION:Concert starts at 7:00 pm (Concert only tickets are available) \nDinner starts at 5:00 pm (Dinner tickets include the concert which starts at 7:00 pm) \n  \nPurchase tickets to the event here:  Tickets
URL:https://supportbc.org/upcoming-event/travelin-shoes-fundraiser-concert-with-monty-byrom-lydia-ranger-jim-ranger-from-the-voice-and-ken-jill-burdick-and-the-bc-chamber-singers/
LOCATION:Bakersfield College Indoor Theater\, 1801 Panorama Dr.\, Bakersfield\, CA\, 93305\, United States
END:VEVENT
BEGIN:VEVENT
DTSTART;TZID=America/Los_Angeles:20221210T140000
DTEND;TZID=America/Los_Angeles:20221210T203000
DTSTAMP:20260423T080413
CREATED:20221109T202841Z
LAST-MODIFIED:20221109T203054Z
UID:3225-1670680800-1670704200@supportbc.org
SUMMARY:A Cozy Christmas
DESCRIPTION:Join the BC Chamber Singers for their Annual Christmas concert.  This event will help the BC Chamber Singers raise the necessary funds for the Central Europe Tour in June 2023 to Vienna\, Prague\, and Berlin.  These events help us make sure that everyone that wanted to go on the European Tour in 2023 has the opportunity to attend no matter their financial situation.   There are two shows\, one at 2 pm and one at 6 pm\, to choose from.  Tickets can be purchased here:  Purchase Tickets
URL:https://supportbc.org/upcoming-event/a-cozy-christmas/
LOCATION:CA
END:VEVENT
BEGIN:VEVENT
DTSTART;TZID=America/Los_Angeles:20221103T080000
DTEND;TZID=America/Los_Angeles:20221130T180000
DTSTAMP:20260423T080413
CREATED:20221103T164133Z
LAST-MODIFIED:20221103T164833Z
UID:3100-1667462400-1669831200@supportbc.org
SUMMARY:BC Cross Country & Track and Field See's Candy Fundraiser
DESCRIPTION:Bakersfield College Cross Country and Track and Field Teams are holding their annual See’s Candy sale. This is the same candy you would buy in the store\, but you can buy it from us at the same price and have it delivered to you or pick up can be arranged. Candy will be available for delivery or pick up the first week in December.  Order deadline is November 30th\, 2022.  If you would like the candy for Thanksgiving the the order deadline is November 17th\, 2022. \nOrder your See’s Candy here >>> Place Candy Order \n \n 
URL:https://supportbc.org/upcoming-event/bc-cross-country-track-and-field-sees-candy-fundraiser/
LOCATION:CA
END:VEVENT
BEGIN:VEVENT
DTSTART;TZID=America/Los_Angeles:20221028T193000
DTEND;TZID=America/Los_Angeles:20221028T210000
DTSTAMP:20260423T080413
CREATED:20220929T215625Z
LAST-MODIFIED:20221028T014120Z
UID:3010-1666985400-1666990800@supportbc.org
SUMMARY:be water my friend
DESCRIPTION:Please join us for an incredible evening of music.  Featuring the BC College Choir\, Renegade Chorus\, Bella Lux Treble Chorus\, Chamber Singers.\n\nGuest Artists: Alex Wilson\, cello and Tracy Harris\, flute\n\nDr. Jennifer M. Garrett\, Director\nPatrick Bender\, Collaborative Pianist\n\nThis concert theme is based on a quote from Martial Artist and Philosopher\, Bruce Lee.  The repertoire featured represents all aspects of water and will include composers such as Elaine Hagenberg\, Johann Sebastian Bach\, Eric Whitacre\, Clara Schumann\, Ernest Chausson\, Moira Smiley Morten Lauridsen\, Dan Forrest\, and others. \nFor Parking information please use this link:   Parking at BC \nYou can purchase tickets at this link:  Purchase Tickets
URL:https://supportbc.org/upcoming-event/be-water-my-friend/
LOCATION:CA
END:VEVENT
BEGIN:VEVENT
DTSTART;TZID=America/Los_Angeles:20221021T110000
DTEND;TZID=America/Los_Angeles:20221021T210000
DTSTAMP:20260423T080413
CREATED:20220801T203349Z
LAST-MODIFIED:20220810T215132Z
UID:2466-1666350000-1666386000@supportbc.org
SUMMARY:Back to BC 2022 Golf Tournament
DESCRIPTION:Please join the BC Alumni Association for the 2nd Annual Back to BC Golf Tournament supporting the BC Football program at the Rio Bravo Country Club on Friday\, October 21st. \nFor more information on registration and sponsorships\, click here: Back to BC Registration and Sponsorships.
URL:https://supportbc.org/upcoming-event/back-to-bc-2022-golf-tournament/
LOCATION:Rio Bravo Country Club\, 15200 Casa Club Dr.\, Bakersfield\, CA\, 93306\, United States
END:VEVENT
BEGIN:VEVENT
DTSTART;TZID=America/Los_Angeles:20221015T110000
DTEND;TZID=America/Los_Angeles:20221015T160000
DTSTAMP:20260423T080413
CREATED:20220801T203033Z
LAST-MODIFIED:20220829T203147Z
UID:2464-1665831600-1665849600@supportbc.org
SUMMARY:Renegade Promenade
DESCRIPTION:Bakersfield College alumni and current students\, including high schoolers planning for their college future\, are invited to campus for the Inaugural Renegade Promenade. Scheduled for 11 a.m. to 4:00 p.m. on Saturday\, October 15\, 2022\, the festival will give the community the chance to see first-hand the transformation happening on campus in terms of new and renovated buildings\, and also in terms of the many new and continuing programs on campus. \nFor more information on sponsorships\, click here: Renegade Promenade Sponsorships\nFor more information on how to become a vendor\, click here:\nRenegade Promenade Non-Profit Vendor \nRenegade Promenade For-Profit Vendor \nRenegade Promenade Campus Dept/Org
URL:https://supportbc.org/upcoming-event/renegade-promenade/
LOCATION:Panorama Campus\, 1801 Panorama Drive\, Bakersfield\, CA\, 93305\, United States
END:VEVENT
BEGIN:VEVENT
DTSTART;TZID=America/Los_Angeles:20220610T173000
DTEND;TZID=America/Los_Angeles:20220611T220000
DTSTAMP:20260423T080413
CREATED:20220516T145155Z
LAST-MODIFIED:20220516T151142Z
UID:2068-1654882200-1654984800@supportbc.org
SUMMARY:Something's Coming:  An Evening with the BC Chamber Singers & Friends
DESCRIPTION:The BC Chamber Singers invite you to “Something’s Coming: An Evening with the BC Chamber Singers and Friends on June 10 or 11 at Stars Theatre. The show will feature current and past BC Chamber Singers along with some of the most talented local performers in Bakersfield. The event will feature Phantom of the Opera\, Guys & Dolls\, Les Miserables\, Hadestown\, The Color Purple\, West Side Story\, Rocky Horror Picture Show\, Jersey Boys\, Frank Sinatra\, and more. To make this even more amazing there will be a live band! \nJune 10: Full Show & Dessert with cash bar & raffle \nJune 11: Full Show\, Dinner\, Dessert\, Raffle\, Live & Silent Auction \nTickets are available here and will go quickly! We are selling sponsor tables of 8 with VIP treatment on June 11 plus individual tickets. June 10th is a discount night with a show and dessert only. We hope you will join us with family and friends! The proceeds of this event will help the BC Chamber Singers represent Bakersfield College and Kern County in Vienna\, Prague\, and Berlin in June of 2023. We thank you so much for your support.
URL:https://supportbc.org/upcoming-event/somethings-coming-an-evening-with-the-bc-chamber-singers-friends/
LOCATION:Stars Dinner Theater Restaurant\, 1931 Chester Ave\, Bakersfield\, CA\, 93301\, United States
END:VEVENT
BEGIN:VEVENT
DTSTART;TZID=America/Los_Angeles:20220429T100000
DTEND;TZID=America/Los_Angeles:20220429T130000
DTSTAMP:20260423T080413
CREATED:20220412T231821Z
LAST-MODIFIED:20220413T001257Z
UID:1852-1651226400-1651237200@supportbc.org
SUMMARY:2022 Honors Celebration - Medal Pickup
DESCRIPTION:Students recognized in the 2022 Virtual Honors Celebration in the video program being released April 28th are invited to pick up their medals on Friday\, April 29th\, at the Panorama Campus\, from 10:00 AM to 1:00 PM.
URL:https://supportbc.org/upcoming-event/2022-honors-celebration-medal-pickup/
LOCATION:Panorama Campus\, 1801 Panorama Drive\, Bakersfield\, CA\, 93305\, United States
CATEGORIES:Event
END:VEVENT
BEGIN:VEVENT
DTSTART;VALUE=DATE:20220428
DTEND;VALUE=DATE:20220429
DTSTAMP:20260423T080413
CREATED:20220412T231551Z
LAST-MODIFIED:20220413T001253Z
UID:1851-1651104000-1651190399@supportbc.org
SUMMARY:2022 Virtual Honors Celebration
DESCRIPTION:The 2022 Honors Celebration will recognize student recipients of scholarships and/or awards for the Spring 2022 and upcoming 2022-2023 academic year. This pre-recorded event will feature BC administrators and a keynote speaker\, as well as name recognition for all student recipients. The 2022 Honors Celebration will premiere virtually online on Thursday\, April 28th. A drive-thru medal pick-up event will take place on the Panorama Campus the following day from 10 AM to 1 PM on Friday\, April 29th. \nLast year’s program can be viewed at the 2021 Honors Celebration Program page.
URL:https://supportbc.org/upcoming-event/2022-virtual-honors-celebration/
LOCATION:YouTube
CATEGORIES:Event
END:VEVENT
BEGIN:VEVENT
DTSTART;TZID=America/Los_Angeles:20220423T180000
DTEND;TZID=America/Los_Angeles:20220423T210000
DTSTAMP:20260423T080413
CREATED:20220412T182655Z
LAST-MODIFIED:20220412T182655Z
UID:1843-1650736800-1650747600@supportbc.org
SUMMARY:KCP Fest Featuring Mento Buru and DJ Mikey
DESCRIPTION:Join us for a fundraiser benefiting the Bakersfield College Alumni Association on April 23rd\, 2022 at 6 PM! \nHosted at Temblor Brewing Co on Buck Owens Blvd. Temblor Brewing Co is a locally owned microbrewery\, venue and comedy club. They’ll be serving $5 KCP pints all night while Mento Buru plays their signature blend of Latin alternative\, Jamaican SKA\, and reggae. All ages are welcome.
URL:https://supportbc.org/upcoming-event/kcp-fest-featuring-mento-buru-and-dj-mikey/
LOCATION:Temblor Brewing Co\, 3200 Buck Owens Blvd Ste 200\, Bakersfield\, California\, 93308\, United States
CATEGORIES:Event
ATTACH;FMTTYPE=image/png:https://supportbc.org/wp-content/uploads/2022/04/KCP-Fest-2022-Digital-Flier-1.png
END:VEVENT
BEGIN:VEVENT
DTSTART;TZID=America/Los_Angeles:20220422T193000
DTEND;TZID=America/Los_Angeles:20220422T223000
DTSTAMP:20260423T080413
CREATED:20220408T001010Z
LAST-MODIFIED:20220412T182857Z
UID:1836-1650655800-1650666600@supportbc.org
SUMMARY:Spring Choral Concert: I Have A Voice
DESCRIPTION:The Bakersfield College Choirs present a concert entitled\, “I Have a Voice” on April 22 at 7:30 pm in the Indoor Theatre at BC. \nThe concert will feature the BC College Choir\, Chamber Singers\, and the Renegade Chorus under the direction of Dr. Jennifer Garrett with Patrick Bender as collaborative pianist. Through composers such as Moira Smiley\, Paul Rardin\, Joaquin des Prez\, Levente\, Rheinberger\, and more the choirs and audience will explore the many way we have a voice today and the ability to acknowledge and hear the voices around us. \nPrior to the concert there will be a fundraiser dinner at 6:00 pm in front of the Outdoor Theatre. \nThe BC Choirs hope you will join us to raise funds for opportunities for the BC Choirs including the BC Chamber Singers June 2023 tour to Vienna\, Prague\, and Berlin. \nTickets can be purchased for the dinner and concert through the Bakersfield College Foundation: Purchase Tickets. \nWe hope you will join us on April 22 for an evening celebrating the voices we can raise together in song! \nAccommodations are available with advanced notice\, please contact Jennifer Garrett at jennifer.garrett@bakersfieldcollege.edu.
URL:https://supportbc.org/upcoming-event/spring-choral-concert-i-have-a-voice/
LOCATION:Bakersfield College Indoor Theater\, 1801 Panorama Dr.\, Bakersfield\, CA\, 93305\, United States
CATEGORIES:Event
END:VEVENT
BEGIN:VEVENT
DTSTART;TZID=America/Los_Angeles:20210306T190000
DTEND;TZID=America/Los_Angeles:20210306T200000
DTSTAMP:20260423T080413
CREATED:20210127T002714Z
LAST-MODIFIED:20220413T001307Z
UID:990-1615057200-1615060800@supportbc.org
SUMMARY:13th Annual Sterling Silver
DESCRIPTION:13th Annual Sterling Silver\nSaturday\, March 6th\, 2021 7:00-8:00pm\nWill air on KGET/Channel 17 \n2021 Honorees Include:\nPatricia Mettler and Margaret “Peggy” Haight – Individual Philanthropists (Posthumously)\nGreg & Mary Bynum\, Bynum\, Inc. – Corporate Philanthropists\nBecki Whitson – BC Foundation Service Medal (Posthumously) \nFor more information or to become a sponsor\, please contact Heather Pennella heather.pennella@bakersfieldcollege.edu or 661-395-4885.
URL:https://supportbc.org/upcoming-event/13th-annual-sterling-silver/
LOCATION:KGET Channel 17
CATEGORIES:Event
END:VEVENT
BEGIN:VEVENT
DTSTART;TZID=America/Los_Angeles:20210204T150000
DTEND;TZID=America/Los_Angeles:20210204T150000
DTSTAMP:20260423T080413
CREATED:20200219T234157Z
LAST-MODIFIED:20200220T000354Z
UID:655-1612450800-1612450800@supportbc.org
SUMMARY:Board of Directors
DESCRIPTION:For agenda\, see Board Meetings.
URL:https://supportbc.org/upcoming-event/board-of-directors/
LOCATION:Norman Levan Center for Humanities\, 1801 Panorama Dr.\, Bakersfield\, CA\, 93305\, United States
CATEGORIES:Meeting
END:VEVENT
BEGIN:VEVENT
DTSTART;TZID=America/Los_Angeles:20210128T150000
DTEND;TZID=America/Los_Angeles:20210128T150000
DTSTAMP:20260423T080413
CREATED:20200219T234117Z
LAST-MODIFIED:20200220T000430Z
UID:653-1611846000-1611846000@supportbc.org
SUMMARY:Finance & Executive Committees Meeting
DESCRIPTION:For agenda\, see Board Meetings.
URL:https://supportbc.org/upcoming-event/finance-executive-committees-meeting-5/
LOCATION:Norman Levan Center for Humanities\, 1801 Panorama Dr.\, Bakersfield\, CA\, 93305\, United States
CATEGORIES:Meeting
END:VEVENT
BEGIN:VEVENT
DTSTART;TZID=America/Los_Angeles:20201203T173000
DTEND;TZID=America/Los_Angeles:20201203T200000
DTSTAMP:20260423T080413
CREATED:20200219T234016Z
LAST-MODIFIED:20200219T234016Z
UID:650-1607016600-1607025600@supportbc.org
SUMMARY:Holiday Dinner
DESCRIPTION:
URL:https://supportbc.org/upcoming-event/holiday-dinner/
LOCATION:Renegade Room\, 1801 Panorama Dr.\, Bakersfield\, CA\, 93305\, United States
CATEGORIES:Event
END:VEVENT
BEGIN:VEVENT
DTSTART;TZID=America/Los_Angeles:20201203T150000
DTEND;TZID=America/Los_Angeles:20201203T150000
DTSTAMP:20260423T080413
CREATED:20200219T233730Z
LAST-MODIFIED:20200220T000452Z
UID:648-1607007600-1607007600@supportbc.org
SUMMARY:Annual Planning Meeting
DESCRIPTION:For agenda\, see Board Meetings.
URL:https://supportbc.org/upcoming-event/annual-planning-meeting-2/
LOCATION:Norman Levan Center for Humanities\, 1801 Panorama Dr.\, Bakersfield\, CA\, 93305\, United States
CATEGORIES:Meeting
END:VEVENT
BEGIN:VEVENT
DTSTART;TZID=America/Los_Angeles:20201001T150000
DTEND;TZID=America/Los_Angeles:20201001T150000
DTSTAMP:20260423T080413
CREATED:20200219T233638Z
LAST-MODIFIED:20200220T000509Z
UID:646-1601564400-1601564400@supportbc.org
SUMMARY:Board of Directors Meeting
DESCRIPTION:For agenda\, see Board Meetings.
URL:https://supportbc.org/upcoming-event/board-of-directors-meeting-2/
LOCATION:Norman Levan Center for Humanities\, 1801 Panorama Dr.\, Bakersfield\, CA\, 93305\, United States
CATEGORIES:Meeting
END:VEVENT
BEGIN:VEVENT
DTSTART;TZID=America/Los_Angeles:20200924T150000
DTEND;TZID=America/Los_Angeles:20200924T150000
DTSTAMP:20260423T080413
CREATED:20200219T233549Z
LAST-MODIFIED:20200220T000529Z
UID:644-1600959600-1600959600@supportbc.org
SUMMARY:Finance & Executive Committees Meeting
DESCRIPTION:For agenda\, see Board Meetings.
URL:https://supportbc.org/upcoming-event/finance-executive-committees-meeting-4/
LOCATION:Norman Levan Center for Humanities\, 1801 Panorama Dr.\, Bakersfield\, CA\, 93305\, United States
CATEGORIES:Meeting
END:VEVENT
BEGIN:VEVENT
DTSTART;TZID=America/Los_Angeles:20200528T150000
DTEND;TZID=America/Los_Angeles:20200528T150000
DTSTAMP:20260423T080413
CREATED:20200219T233453Z
LAST-MODIFIED:20200511T213209Z
UID:642-1590678000-1590678000@supportbc.org
SUMMARY:Board of Directors Meeting
DESCRIPTION:For agenda\, see Board Meetings.
URL:https://supportbc.org/upcoming-event/board-of-directors-meeting/
LOCATION:Online\, Bakersfield\, CA\, United States
CATEGORIES:Meeting
END:VEVENT
BEGIN:VEVENT
DTSTART;TZID=America/Los_Angeles:20200514T150000
DTEND;TZID=America/Los_Angeles:20200514T150000
DTSTAMP:20260423T080413
CREATED:20200219T233359Z
LAST-MODIFIED:20200513T003844Z
UID:640-1589468400-1589468400@supportbc.org
SUMMARY:Finance & Executive Committees Meeting
DESCRIPTION:For agenda\, see Board Meetings. \nTo register for the virtual meeting and receive a Zoom link\, please fill out your information at the Registration Page.
URL:https://supportbc.org/upcoming-event/finance-executive-committees-meeting-3/
LOCATION:Online\, Bakersfield\, CA\, United States
CATEGORIES:Meeting
END:VEVENT
END:VCALENDAR