BEGIN:VCALENDAR
VERSION:2.0
PRODID:-//Bakersfield College Foundation - ECPv6.15.13//NONSGML v1.0//EN
CALSCALE:GREGORIAN
METHOD:PUBLISH
X-WR-CALNAME:Bakersfield College Foundation
X-ORIGINAL-URL:https://supportbc.org
X-WR-CALDESC:Events for Bakersfield College Foundation
REFRESH-INTERVAL;VALUE=DURATION:PT1H
X-Robots-Tag:noindex
X-PUBLISHED-TTL:PT1H
BEGIN:VTIMEZONE
TZID:America/Los_Angeles
BEGIN:DAYLIGHT
TZOFFSETFROM:-0800
TZOFFSETTO:-0700
TZNAME:PDT
DTSTART:20180311T100000
END:DAYLIGHT
BEGIN:STANDARD
TZOFFSETFROM:-0700
TZOFFSETTO:-0800
TZNAME:PST
DTSTART:20181104T090000
END:STANDARD
BEGIN:DAYLIGHT
TZOFFSETFROM:-0800
TZOFFSETTO:-0700
TZNAME:PDT
DTSTART:20190310T100000
END:DAYLIGHT
BEGIN:STANDARD
TZOFFSETFROM:-0700
TZOFFSETTO:-0800
TZNAME:PST
DTSTART:20191103T090000
END:STANDARD
BEGIN:DAYLIGHT
TZOFFSETFROM:-0800
TZOFFSETTO:-0700
TZNAME:PDT
DTSTART:20200308T100000
END:DAYLIGHT
BEGIN:STANDARD
TZOFFSETFROM:-0700
TZOFFSETTO:-0800
TZNAME:PST
DTSTART:20201101T090000
END:STANDARD
BEGIN:DAYLIGHT
TZOFFSETFROM:-0800
TZOFFSETTO:-0700
TZNAME:PDT
DTSTART:20210314T100000
END:DAYLIGHT
BEGIN:STANDARD
TZOFFSETFROM:-0700
TZOFFSETTO:-0800
TZNAME:PST
DTSTART:20211107T090000
END:STANDARD
BEGIN:DAYLIGHT
TZOFFSETFROM:-0800
TZOFFSETTO:-0700
TZNAME:PDT
DTSTART:20220313T100000
END:DAYLIGHT
BEGIN:STANDARD
TZOFFSETFROM:-0700
TZOFFSETTO:-0800
TZNAME:PST
DTSTART:20221106T090000
END:STANDARD
BEGIN:DAYLIGHT
TZOFFSETFROM:-0800
TZOFFSETTO:-0700
TZNAME:PDT
DTSTART:20230312T100000
END:DAYLIGHT
BEGIN:STANDARD
TZOFFSETFROM:-0700
TZOFFSETTO:-0800
TZNAME:PST
DTSTART:20231105T090000
END:STANDARD
END:VTIMEZONE
BEGIN:VEVENT
DTSTART;TZID=America/Los_Angeles:20220422T193000
DTEND;TZID=America/Los_Angeles:20220422T223000
DTSTAMP:20260423T095337
CREATED:20220408T001010Z
LAST-MODIFIED:20220412T182857Z
UID:1836-1650655800-1650666600@supportbc.org
SUMMARY:Spring Choral Concert: I Have A Voice
DESCRIPTION:The Bakersfield College Choirs present a concert entitled\, “I Have a Voice” on April 22 at 7:30 pm in the Indoor Theatre at BC. \nThe concert will feature the BC College Choir\, Chamber Singers\, and the Renegade Chorus under the direction of Dr. Jennifer Garrett with Patrick Bender as collaborative pianist. Through composers such as Moira Smiley\, Paul Rardin\, Joaquin des Prez\, Levente\, Rheinberger\, and more the choirs and audience will explore the many way we have a voice today and the ability to acknowledge and hear the voices around us. \nPrior to the concert there will be a fundraiser dinner at 6:00 pm in front of the Outdoor Theatre. \nThe BC Choirs hope you will join us to raise funds for opportunities for the BC Choirs including the BC Chamber Singers June 2023 tour to Vienna\, Prague\, and Berlin. \nTickets can be purchased for the dinner and concert through the Bakersfield College Foundation: Purchase Tickets. \nWe hope you will join us on April 22 for an evening celebrating the voices we can raise together in song! \nAccommodations are available with advanced notice\, please contact Jennifer Garrett at jennifer.garrett@bakersfieldcollege.edu.
URL:https://supportbc.org/upcoming-event/spring-choral-concert-i-have-a-voice/
LOCATION:Bakersfield College Indoor Theater\, 1801 Panorama Dr.\, Bakersfield\, CA\, 93305\, United States
CATEGORIES:Event
END:VEVENT
BEGIN:VEVENT
DTSTART;TZID=America/Los_Angeles:20210306T190000
DTEND;TZID=America/Los_Angeles:20210306T200000
DTSTAMP:20260423T095337
CREATED:20210127T002714Z
LAST-MODIFIED:20220413T001307Z
UID:990-1615057200-1615060800@supportbc.org
SUMMARY:13th Annual Sterling Silver
DESCRIPTION:13th Annual Sterling Silver\nSaturday\, March 6th\, 2021 7:00-8:00pm\nWill air on KGET/Channel 17 \n2021 Honorees Include:\nPatricia Mettler and Margaret “Peggy” Haight – Individual Philanthropists (Posthumously)\nGreg & Mary Bynum\, Bynum\, Inc. – Corporate Philanthropists\nBecki Whitson – BC Foundation Service Medal (Posthumously) \nFor more information or to become a sponsor\, please contact Heather Pennella heather.pennella@bakersfieldcollege.edu or 661-395-4885.
URL:https://supportbc.org/upcoming-event/13th-annual-sterling-silver/
LOCATION:KGET Channel 17
CATEGORIES:Event
END:VEVENT
BEGIN:VEVENT
DTSTART;TZID=America/Los_Angeles:20210204T150000
DTEND;TZID=America/Los_Angeles:20210204T150000
DTSTAMP:20260423T095337
CREATED:20200219T234157Z
LAST-MODIFIED:20200220T000354Z
UID:655-1612450800-1612450800@supportbc.org
SUMMARY:Board of Directors
DESCRIPTION:For agenda\, see Board Meetings.
URL:https://supportbc.org/upcoming-event/board-of-directors/
LOCATION:Norman Levan Center for Humanities\, 1801 Panorama Dr.\, Bakersfield\, CA\, 93305\, United States
CATEGORIES:Meeting
END:VEVENT
BEGIN:VEVENT
DTSTART;TZID=America/Los_Angeles:20210128T150000
DTEND;TZID=America/Los_Angeles:20210128T150000
DTSTAMP:20260423T095337
CREATED:20200219T234117Z
LAST-MODIFIED:20200220T000430Z
UID:653-1611846000-1611846000@supportbc.org
SUMMARY:Finance & Executive Committees Meeting
DESCRIPTION:For agenda\, see Board Meetings.
URL:https://supportbc.org/upcoming-event/finance-executive-committees-meeting-5/
LOCATION:Norman Levan Center for Humanities\, 1801 Panorama Dr.\, Bakersfield\, CA\, 93305\, United States
CATEGORIES:Meeting
END:VEVENT
BEGIN:VEVENT
DTSTART;TZID=America/Los_Angeles:20201203T173000
DTEND;TZID=America/Los_Angeles:20201203T200000
DTSTAMP:20260423T095337
CREATED:20200219T234016Z
LAST-MODIFIED:20200219T234016Z
UID:650-1607016600-1607025600@supportbc.org
SUMMARY:Holiday Dinner
DESCRIPTION:
URL:https://supportbc.org/upcoming-event/holiday-dinner/
LOCATION:Renegade Room\, 1801 Panorama Dr.\, Bakersfield\, CA\, 93305\, United States
CATEGORIES:Event
END:VEVENT
BEGIN:VEVENT
DTSTART;TZID=America/Los_Angeles:20201203T150000
DTEND;TZID=America/Los_Angeles:20201203T150000
DTSTAMP:20260423T095337
CREATED:20200219T233730Z
LAST-MODIFIED:20200220T000452Z
UID:648-1607007600-1607007600@supportbc.org
SUMMARY:Annual Planning Meeting
DESCRIPTION:For agenda\, see Board Meetings.
URL:https://supportbc.org/upcoming-event/annual-planning-meeting-2/
LOCATION:Norman Levan Center for Humanities\, 1801 Panorama Dr.\, Bakersfield\, CA\, 93305\, United States
CATEGORIES:Meeting
END:VEVENT
BEGIN:VEVENT
DTSTART;TZID=America/Los_Angeles:20201001T150000
DTEND;TZID=America/Los_Angeles:20201001T150000
DTSTAMP:20260423T095337
CREATED:20200219T233638Z
LAST-MODIFIED:20200220T000509Z
UID:646-1601564400-1601564400@supportbc.org
SUMMARY:Board of Directors Meeting
DESCRIPTION:For agenda\, see Board Meetings.
URL:https://supportbc.org/upcoming-event/board-of-directors-meeting-2/
LOCATION:Norman Levan Center for Humanities\, 1801 Panorama Dr.\, Bakersfield\, CA\, 93305\, United States
CATEGORIES:Meeting
END:VEVENT
BEGIN:VEVENT
DTSTART;TZID=America/Los_Angeles:20200924T150000
DTEND;TZID=America/Los_Angeles:20200924T150000
DTSTAMP:20260423T095337
CREATED:20200219T233549Z
LAST-MODIFIED:20200220T000529Z
UID:644-1600959600-1600959600@supportbc.org
SUMMARY:Finance & Executive Committees Meeting
DESCRIPTION:For agenda\, see Board Meetings.
URL:https://supportbc.org/upcoming-event/finance-executive-committees-meeting-4/
LOCATION:Norman Levan Center for Humanities\, 1801 Panorama Dr.\, Bakersfield\, CA\, 93305\, United States
CATEGORIES:Meeting
END:VEVENT
BEGIN:VEVENT
DTSTART;TZID=America/Los_Angeles:20200528T150000
DTEND;TZID=America/Los_Angeles:20200528T150000
DTSTAMP:20260423T095337
CREATED:20200219T233453Z
LAST-MODIFIED:20200511T213209Z
UID:642-1590678000-1590678000@supportbc.org
SUMMARY:Board of Directors Meeting
DESCRIPTION:For agenda\, see Board Meetings.
URL:https://supportbc.org/upcoming-event/board-of-directors-meeting/
LOCATION:Online\, Bakersfield\, CA\, United States
CATEGORIES:Meeting
END:VEVENT
BEGIN:VEVENT
DTSTART;TZID=America/Los_Angeles:20200514T150000
DTEND;TZID=America/Los_Angeles:20200514T150000
DTSTAMP:20260423T095337
CREATED:20200219T233359Z
LAST-MODIFIED:20200513T003844Z
UID:640-1589468400-1589468400@supportbc.org
SUMMARY:Finance & Executive Committees Meeting
DESCRIPTION:For agenda\, see Board Meetings. \nTo register for the virtual meeting and receive a Zoom link\, please fill out your information at the Registration Page.
URL:https://supportbc.org/upcoming-event/finance-executive-committees-meeting-3/
LOCATION:Online\, Bakersfield\, CA\, United States
CATEGORIES:Meeting
END:VEVENT
BEGIN:VEVENT
DTSTART;TZID=America/Los_Angeles:20200508T180000
DTEND;TZID=America/Los_Angeles:20200508T200000
DTSTAMP:20260423T095337
CREATED:20200219T232940Z
LAST-MODIFIED:20200316T204010Z
UID:637-1588960800-1588968000@supportbc.org
SUMMARY:Cancelled ~ Honors Celebration Ceremony
DESCRIPTION:Based on the CDC’s recommendation of cancelling gatherings of 50 people or more to slow the spread of the Coronavirus COVID-19\, we have decided to cancel the annual Honors Celebration Ceremony. \nIn lieu of the ceremony and as a practice of social distancing\, we plan to share a campus wide email at the beginning of May including information regarding the students that receive honors. It is our wish that faculty and staff will virtually share notes and wishes of congratulations to the students.
URL:https://supportbc.org/upcoming-event/honors-celebration-ceremony/
LOCATION:Bakersfield College Outdoor Theater\, 1801 Panorama Dr.\, Bakersfield\, CA\, 93305\, United States
CATEGORIES:Event
END:VEVENT
BEGIN:VEVENT
DTSTART;TZID=America/Los_Angeles:20200501T180000
DTEND;TZID=America/Los_Angeles:20200501T203000
DTSTAMP:20260423T095337
CREATED:20200219T232729Z
LAST-MODIFIED:20200316T211241Z
UID:632-1588356000-1588365000@supportbc.org
SUMMARY:Postponed ~ Honors Donor Appreciation Dinner
DESCRIPTION:Based on the CDC’s recommendation of cancelling gatherings of 50 people or more to slow the spread of the Coronavirus COVID-19\, we have decided to postpone this event. \nInvitation only event for Living Donors and their scholarship recipient. \nDonors are personally invited through the Foundation and upon a positive RSVP response\, their coordinated recipient(s) is invited to the dinner.
URL:https://supportbc.org/upcoming-event/honors-donor-appreciation-dinner/
LOCATION:Hodel’s Country Dining\, 5917 Knudsen Dr\, Bakersfield\, CA\, 93308\, United States
CATEGORIES:Event
END:VEVENT
BEGIN:VEVENT
DTSTART;TZID=America/Los_Angeles:20200222T180000
DTEND;TZID=America/Los_Angeles:20200222T180000
DTSTAMP:20260423T095337
CREATED:20190829T183717Z
LAST-MODIFIED:20200220T000238Z
UID:289-1582394400-1582394400@supportbc.org
SUMMARY:Sterling Silver Dinner
DESCRIPTION:
URL:https://supportbc.org/upcoming-event/sterling-silver-dinner/
LOCATION:Seven Oaks Country Club
CATEGORIES:Event
END:VEVENT
BEGIN:VEVENT
DTSTART;TZID=America/Los_Angeles:20200130T150000
DTEND;TZID=America/Los_Angeles:20200130T150000
DTSTAMP:20260423T095337
CREATED:20190904T161610Z
LAST-MODIFIED:20190904T161610Z
UID:344-1580396400-1580396400@supportbc.org
SUMMARY:Finance & Executive Committees Meeting
DESCRIPTION:
URL:https://supportbc.org/upcoming-event/finance-executive-committees-meeting-2/
LOCATION:Board of Trustees Room\, Library L215
CATEGORIES:Meeting
END:VEVENT
BEGIN:VEVENT
DTSTART;TZID=America/Los_Angeles:20191205T150000
DTEND;TZID=America/Los_Angeles:20191205T150000
DTSTAMP:20260423T095337
CREATED:20190904T161523Z
LAST-MODIFIED:20190904T161523Z
UID:342-1575558000-1575558000@supportbc.org
SUMMARY:Annual Planning Meeting
DESCRIPTION:Our Holiday Dinner will be held after the meeting at 5:30 p.m. in the Renegade Room
URL:https://supportbc.org/upcoming-event/annual-planning-meeting/
LOCATION:Norman Levan Center for Humanities\, 1801 Panorama Dr.\, Bakersfield\, CA\, 93305\, United States
CATEGORIES:Meeting
END:VEVENT
BEGIN:VEVENT
DTSTART;TZID=America/Los_Angeles:20191003T150000
DTEND;TZID=America/Los_Angeles:20191003T150000
DTSTAMP:20260423T095337
CREATED:20190904T161346Z
LAST-MODIFIED:20190904T161346Z
UID:339-1570114800-1570114800@supportbc.org
SUMMARY:Foundation Board of Directors Meeting
DESCRIPTION:
URL:https://supportbc.org/upcoming-event/foundation-board-of-directors-meeting/
LOCATION:Norman Levan Center for Humanities\, 1801 Panorama Dr.\, Bakersfield\, CA\, 93305\, United States
CATEGORIES:Meeting
END:VEVENT
BEGIN:VEVENT
DTSTART;TZID=America/Los_Angeles:20190926T150000
DTEND;TZID=America/Los_Angeles:20190926T150000
DTSTAMP:20260423T095337
CREATED:20190904T161125Z
LAST-MODIFIED:20190904T161125Z
UID:336-1569510000-1569510000@supportbc.org
SUMMARY:Finance & Executive Committees Meeting
DESCRIPTION:
URL:https://supportbc.org/upcoming-event/finance-executive-committees-meeting/
LOCATION:Board of Trustees Room\, Library L215
CATEGORIES:Meeting
END:VEVENT
END:VCALENDAR